BEGIN:VCALENDAR
VERSION:2.0
PRODID:-//Focus Uganda - ECPv6.15.20//NONSGML v1.0//EN
CALSCALE:GREGORIAN
METHOD:PUBLISH
X-ORIGINAL-URL:https://focusuganda.org
X-WR-CALDESC:Events for Focus Uganda
REFRESH-INTERVAL;VALUE=DURATION:PT1H
X-Robots-Tag:noindex
X-PUBLISHED-TTL:PT1H
BEGIN:VTIMEZONE
TZID:Africa/Kampala
BEGIN:STANDARD
TZOFFSETFROM:+0300
TZOFFSETTO:+0300
TZNAME:EAT
DTSTART:20230101T000000
END:STANDARD
END:VTIMEZONE
BEGIN:VEVENT
DTSTART;TZID=Africa/Kampala:20241206T080000
DTEND;TZID=Africa/Kampala:20241206T170000
DTSTAMP:20260423T133139
CREATED:20240122T081559Z
LAST-MODIFIED:20240122T081600Z
UID:3850-1733472000-1733504400@focusuganda.org
SUMMARY:End of year Dinner - (FOCUS associates/students)
DESCRIPTION:
URL:https://focusuganda.org/event/end-of-year-dinner-focus-associates-students/
END:VEVENT
END:VCALENDAR