BEGIN:VCALENDAR
VERSION:2.0
PRODID:-//Focus Uganda - ECPv6.15.20//NONSGML v1.0//EN
CALSCALE:GREGORIAN
METHOD:PUBLISH
X-WR-CALNAME:Focus Uganda
X-ORIGINAL-URL:https://focusuganda.org
X-WR-CALDESC:Events for Focus Uganda
REFRESH-INTERVAL;VALUE=DURATION:PT1H
X-Robots-Tag:noindex
X-PUBLISHED-TTL:PT1H
BEGIN:VTIMEZONE
TZID:Africa/Kampala
BEGIN:STANDARD
TZOFFSETFROM:+0300
TZOFFSETTO:+0300
TZNAME:EAT
DTSTART:20220101T000000
END:STANDARD
END:VTIMEZONE
BEGIN:VEVENT
DTSTART;TZID=Africa/Kampala:20231208T160000
DTEND;TZID=Africa/Kampala:20231208T160000
DTSTAMP:20260425T200554
CREATED:20231102T094420Z
LAST-MODIFIED:20231102T094422Z
UID:3610-1702051200-1702051200@focusuganda.org
SUMMARY:FOCUS PARTNERS' DINNER
DESCRIPTION:Dinner party
URL:https://focusuganda.org/event/focus-partners-dinner/
LOCATION:Ndere Cultural Centre
END:VEVENT
END:VCALENDAR