BEGIN:VCALENDAR
VERSION:2.0
PRODID:-//Focus Uganda - ECPv6.15.20//NONSGML v1.0//EN
CALSCALE:GREGORIAN
METHOD:PUBLISH
X-WR-CALNAME:Focus Uganda
X-ORIGINAL-URL:https://focusuganda.org
X-WR-CALDESC:Events for Focus Uganda
REFRESH-INTERVAL;VALUE=DURATION:PT1H
X-Robots-Tag:noindex
X-PUBLISHED-TTL:PT1H
BEGIN:VTIMEZONE
TZID:Africa/Kampala
BEGIN:STANDARD
TZOFFSETFROM:+0300
TZOFFSETTO:+0300
TZNAME:EAT
DTSTART:20190101T000000
END:STANDARD
END:VTIMEZONE
BEGIN:VEVENT
DTSTART;TZID=Africa/Kampala:20200531T000000
DTEND;TZID=Africa/Kampala:20200531T235900
DTSTAMP:20260423T101748
CREATED:20200210T171539Z
LAST-MODIFIED:20200213T113853Z
UID:2528-1590883200-1590969540@focusuganda.org
SUMMARY:New Chapter in Focus Fundraising Dinners
DESCRIPTION:FOCUS events are reunions\, parties to reminisce about the good old days and catch up with loved ones.\nMbarara and Jinja regional Fundraising Dinners were no exception. We had teachers reunited with their students\, old friends catching up\, people making new connections while the rest were just having a good time and rendezvous.\nWe had teachers reunited with their students\, old friends catching up\, people making new connections while the rest were just having a good time and rendezvous. \n \nWe were able to raise 6 million from the dinner in pledges in Mbarara and almost UGX. 4 million in Jinja. With the cash raised during the Mbarara Dinner FOCUS Ministry paid for land in Omukabare-Masha Isingiro 10km from Mbarara town. \nWe got eleven more life membership pledges in both regions and Associates who pledged to help the ministry in any other way possible like gathering old-timers to me back and support the lord’s work. \n \nWe appreciate all the associates who turned up and supported the Ministry\, thank you. And those that could not make it but supported through prayer and giving we appreciate you.
URL:https://focusuganda.org/event/new-chapter-in-focus-fundraising-dinners/
LOCATION:FOCUS Camping Site Gerenge\, Entebbe\, 256\, Uganda
CATEGORIES:Event
ATTACH;FMTTYPE=image/jpeg:https://focusuganda.org/wp-content/uploads/2020/02/events-min.jpg
ORGANIZER;CN="Fellowship of Christian Unions - Uganda":MAILTO:gs@focusuganda.org
END:VEVENT
BEGIN:VEVENT
DTSTART;TZID=Africa/Kampala:20200413T235900
DTEND;TZID=Africa/Kampala:20200413T235900
DTSTAMP:20260423T101748
CREATED:20200210T095245Z
LAST-MODIFIED:20200323T135040Z
UID:618-1586822340-1586822340@focusuganda.org
SUMMARY:FOCUS Mission Camp is Back and BIGGER
DESCRIPTION:The Annual FOCUS Mission Camp is back this year from 10th to 13th April 2020. Last year we hosted 480 students at Gerenge Camping and Retreat Centre and this year we expect our numbers to grow to over 600 students. We would appreciate any assistance rendered to make it possible for a CU student to attend. \n \nMany students’ lives have been touched and transformed over the years during FOCUS Mission Camps. Let your giving bring transformation to this nation’s next generation of leaders.
URL:https://focusuganda.org/event/focus-mission-camp-is-back-and-bigger/
LOCATION:FOCUS Camping Site Gerenge\, Entebbe\, 256\, Uganda
CATEGORIES:Event
ATTACH;FMTTYPE=image/jpeg:https://focusuganda.org/wp-content/uploads/2016/03/easter-mission-camp.jpg
ORGANIZER;CN="Fellowship of Christian Unions - Uganda":MAILTO:gs@focusuganda.org
END:VEVENT
BEGIN:VEVENT
DTSTART;TZID=Africa/Kampala:20200410T000000
DTEND;TZID=Africa/Kampala:20200413T235900
DTSTAMP:20260423T101748
CREATED:20200210T171522Z
LAST-MODIFIED:20200213T113608Z
UID:2527-1586476800-1586822340@focusuganda.org
SUMMARY:Associates Conference for Lira\, Arua and Kampala
DESCRIPTION:Brethren\, what new thing are you seeing on FOCUS\, let people work for GOD. Can we see the glory of God in this region? FOCUS has been in place since 1983 (for the sake of Mbarara) but we do not have a shop to operate in\, do we have anything that can be used to generate income and preach the gospel to people far away from here? \n \n  \nThe one\, who made the sea to dry for his children to cross for his glory\, is still ready to see his glory in this town. I desire and pray that God helps us to have a vision of having a new FOCUS.  We pray for the leadership of FOCUS that we may be able to see far and see a different FOCUS. FOCUS is a sleeping lion. Let us wake up and be a new thing for the lord. He is ready to give us his hand for his glory.
URL:https://focusuganda.org/event/associates-conference-for-lira-arua-and-kampala/
LOCATION:Lira\, Arua and Kampala\, Lira\, Arua and Kampala\, 256\, Uganda
CATEGORIES:Event
ATTACH;FMTTYPE=image/jpeg:https://focusuganda.org/wp-content/uploads/2020/02/events-min.jpeg
ORGANIZER;CN="Fellowship of Christian Unions - Uganda":MAILTO:gs@focusuganda.org
END:VEVENT
END:VCALENDAR