BEGIN:VCALENDAR
VERSION:2.0
PRODID:-//Focus Uganda - ECPv6.15.20//NONSGML v1.0//EN
CALSCALE:GREGORIAN
METHOD:PUBLISH
X-ORIGINAL-URL:https://focusuganda.org
X-WR-CALDESC:Events for Focus Uganda
REFRESH-INTERVAL;VALUE=DURATION:PT1H
X-Robots-Tag:noindex
X-PUBLISHED-TTL:PT1H
BEGIN:VTIMEZONE
TZID:Africa/Kampala
BEGIN:STANDARD
TZOFFSETFROM:+0300
TZOFFSETTO:+0300
TZNAME:EAT
DTSTART:20250101T000000
END:STANDARD
END:VTIMEZONE
BEGIN:VEVENT
DTSTART;TZID=Africa/Kampala:20260402T080000
DTEND;TZID=Africa/Kampala:20260406T170000
DTSTAMP:20260422T045846
CREATED:20260210T090228Z
LAST-MODIFIED:20260211T121611Z
UID:5120-1775116800-1775494800@focusuganda.org
SUMMARY:FOCUS Students' & Youths' Easter Camp 2026
DESCRIPTION:FOCUS organizes the Annual National Students’ Camp that runs during the Easter holiday. This year’s Camp will run from 02nd to 06th April\, 2026 at the FOCUS campsite in Gerenge Entebbe. \n\n\n\nThe cost of attending the conference is Ugx.20\,000 per participant. We encourage early registration and confirmation of attendance by making a non-refundable deposit of the registration fee of Ugx.5\,000. \n\n\n\n\n\n\n\n\n\nClick here to registerhttps://forms.gle/hyRprAkDJaz6oisPA\n\n\n\n\n\n\n\nHow to support and pay for the Conference\n\n\n\nAirtel : *185*9*4360975# \n\n\n\nMTN : *165*3*612005# Mtn No: +256761014482 \n\n\n\nBank(DFCU) Name : Fellowship of Christian Unions \n\n\n\nUgx A/c – 01010014915987
URL:https://focusuganda.org/event/focus-students-easter-camp-2026/
LOCATION:FOCUS Camping Site Gerenge\, Entebbe\, 256\, Uganda
ATTACH;FMTTYPE=image/jpeg:https://focusuganda.org/wp-content/uploads/2026/02/Official-Easter-Camp-Flyer.jpeg
ORGANIZER;CN="Fellowship of Christian Unions - Uganda":MAILTO:gs@focusuganda.org
END:VEVENT
END:VCALENDAR