BEGIN:VCALENDAR
VERSION:2.0
PRODID:-//Focus Uganda - ECPv6.15.20//NONSGML v1.0//EN
CALSCALE:GREGORIAN
METHOD:PUBLISH
X-WR-CALNAME:Focus Uganda
X-ORIGINAL-URL:https://focusuganda.org
X-WR-CALDESC:Events for Focus Uganda
REFRESH-INTERVAL;VALUE=DURATION:PT1H
X-Robots-Tag:noindex
X-PUBLISHED-TTL:PT1H
BEGIN:VTIMEZONE
TZID:Africa/Kampala
BEGIN:STANDARD
TZOFFSETFROM:+0300
TZOFFSETTO:+0300
TZNAME:EAT
DTSTART:20190101T000000
END:STANDARD
END:VTIMEZONE
BEGIN:VEVENT
DTSTART;TZID=Africa/Kampala:20250417T080000
DTEND;TZID=Africa/Kampala:20250421T170000
DTSTAMP:20260423T020209
CREATED:20250318T090519Z
LAST-MODIFIED:20250318T090521Z
UID:4150-1744876800-1745254800@focusuganda.org
SUMMARY:Students' Easter Camp 2025
DESCRIPTION:
URL:https://focusuganda.org/event/students-easter-camp-2025/
LOCATION:FOCUS Camping Site Gerenge\, Entebbe\, 256\, Uganda
ATTACH;FMTTYPE=image/png:https://focusuganda.org/wp-content/uploads/2025/03/Mbra1.png
ORGANIZER;CN="Fellowship of Christian Unions - Uganda":MAILTO:gs@focusuganda.org
END:VEVENT
BEGIN:VEVENT
DTSTART;TZID=Africa/Kampala:20241206T080000
DTEND;TZID=Africa/Kampala:20241206T170000
DTSTAMP:20260423T020209
CREATED:20240122T081559Z
LAST-MODIFIED:20240122T081600Z
UID:3850-1733472000-1733504400@focusuganda.org
SUMMARY:End of year Dinner - (FOCUS associates/students)
DESCRIPTION:
URL:https://focusuganda.org/event/end-of-year-dinner-focus-associates-students/
END:VEVENT
BEGIN:VEVENT
DTSTART;TZID=Africa/Kampala:20241122T080000
DTEND;TZID=Africa/Kampala:20241123T170000
DTSTAMP:20260423T020209
CREATED:20240122T081420Z
LAST-MODIFIED:20240122T081421Z
UID:3848-1732262400-1732381200@focusuganda.org
SUMMARY:Annual Associate Retreat
DESCRIPTION:
URL:https://focusuganda.org/event/annual-associate-retreat/
END:VEVENT
BEGIN:VEVENT
DTSTART;TZID=Africa/Kampala:20240906T080000
DTEND;TZID=Africa/Kampala:20240908T170000
DTSTAMP:20260423T020209
CREATED:20240122T081319Z
LAST-MODIFIED:20240122T081320Z
UID:3846-1725609600-1725814800@focusuganda.org
SUMMARY:National Student Leadership Conference
DESCRIPTION:
URL:https://focusuganda.org/event/national-student-leadership-conference/
END:VEVENT
BEGIN:VEVENT
DTSTART;TZID=Africa/Kampala:20240824T080000
DTEND;TZID=Africa/Kampala:20240824T170000
DTSTAMP:20260423T020209
CREATED:20240122T081129Z
LAST-MODIFIED:20240122T081130Z
UID:3844-1724486400-1724518800@focusuganda.org
SUMMARY:FOCUS Jubilee Celebrations(1972-2022)
DESCRIPTION:
URL:https://focusuganda.org/event/focus-jubilee-celebrations1972-2022/
END:VEVENT
BEGIN:VEVENT
DTSTART;TZID=Africa/Kampala:20240329T080000
DTEND;TZID=Africa/Kampala:20240401T170000
DTSTAMP:20260423T020209
CREATED:20240122T081020Z
LAST-MODIFIED:20240122T081021Z
UID:3842-1711699200-1711990800@focusuganda.org
SUMMARY:National Easter(Mission) Conference
DESCRIPTION:
URL:https://focusuganda.org/event/national-eastermission-conference/
END:VEVENT
BEGIN:VEVENT
DTSTART;TZID=Africa/Kampala:20240224T080000
DTEND;TZID=Africa/Kampala:20240224T170000
DTSTAMP:20260423T020209
CREATED:20240122T080631Z
LAST-MODIFIED:20240122T080633Z
UID:3838-1708761600-1708794000@focusuganda.org
SUMMARY:Central Region CU committee luncheon
DESCRIPTION:
URL:https://focusuganda.org/event/central-region-cu-committee-luncheon/
END:VEVENT
BEGIN:VEVENT
DTSTART;TZID=Africa/Kampala:20240223T080000
DTEND;TZID=Africa/Kampala:20240223T170000
DTSTAMP:20260423T020209
CREATED:20240122T080455Z
LAST-MODIFIED:20240122T080457Z
UID:3836-1708675200-1708707600@focusuganda.org
SUMMARY:FATT/STEM staff Reunion(former & current)
DESCRIPTION:
URL:https://focusuganda.org/event/fatt-stem-staff-reunionformer-current/
END:VEVENT
BEGIN:VEVENT
DTSTART;TZID=Africa/Kampala:20231208T160000
DTEND;TZID=Africa/Kampala:20231208T160000
DTSTAMP:20260423T020209
CREATED:20231102T094420Z
LAST-MODIFIED:20231102T094422Z
UID:3610-1702051200-1702051200@focusuganda.org
SUMMARY:FOCUS PARTNERS' DINNER
DESCRIPTION:Dinner party
URL:https://focusuganda.org/event/focus-partners-dinner/
LOCATION:Ndere Cultural Centre
END:VEVENT
BEGIN:VEVENT
DTSTART;TZID=Africa/Kampala:20221119T093000
DTEND;TZID=Africa/Kampala:20221119T020000
DTSTAMP:20260423T020209
CREATED:20221102T113332Z
LAST-MODIFIED:20221102T171703Z
UID:3467-1668850200-1668823200@focusuganda.org
SUMMARY:FOCUS AGM 2022
DESCRIPTION:Receive our heartfelt greetings\, \n\n\n\nThis comes to invite you as a FOCUS member or partner to attend the 2022 Annual General Meeting (AGM) of  Fellowship of Christian Union members scheduled for Saturday 19th  November 2022 from 9:30am . \n\n\n\nThe meeting shall be both virtual and physical hosted at FOCUS Head office in Mulago opposite Old Mulago Catholic Church. For virtual participants\, the Zoom link shall be shared and for those intending to attend physically please\, do let us know by Friday 11th November 2022 for planning purposes.
URL:https://focusuganda.org/event/focus-agm-2022/
LOCATION:FOCUS Head office in Mulago opposite Old Mulago Catholic Church\, kampala\, Kawempe\, 256\, Uganda
END:VEVENT
BEGIN:VEVENT
DTSTART;TZID=Africa/Kampala:20221112T110000
DTEND;TZID=Africa/Kampala:20221112T200000
DTSTAMP:20260423T020209
CREATED:20221102T170452Z
LAST-MODIFIED:20221102T171039Z
UID:3492-1668250800-1668283200@focusuganda.org
SUMMARY:MAKERERE CHRISTIAN UNION:60 YEARS CELEBRATION
DESCRIPTION:MAKERERE UNIVERSITY CHRISTIAN UNION -A fellowship Under FOCUS will be celebrating 60 years since its inception.
URL:https://focusuganda.org/event/makerere-christian-union60-years-celebration/
END:VEVENT
BEGIN:VEVENT
DTSTART;TZID=Africa/Kampala:20200531T000000
DTEND;TZID=Africa/Kampala:20200531T235900
DTSTAMP:20260423T020209
CREATED:20200210T171539Z
LAST-MODIFIED:20200213T113853Z
UID:2528-1590883200-1590969540@focusuganda.org
SUMMARY:New Chapter in Focus Fundraising Dinners
DESCRIPTION:FOCUS events are reunions\, parties to reminisce about the good old days and catch up with loved ones.\nMbarara and Jinja regional Fundraising Dinners were no exception. We had teachers reunited with their students\, old friends catching up\, people making new connections while the rest were just having a good time and rendezvous.\nWe had teachers reunited with their students\, old friends catching up\, people making new connections while the rest were just having a good time and rendezvous. \n \nWe were able to raise 6 million from the dinner in pledges in Mbarara and almost UGX. 4 million in Jinja. With the cash raised during the Mbarara Dinner FOCUS Ministry paid for land in Omukabare-Masha Isingiro 10km from Mbarara town. \nWe got eleven more life membership pledges in both regions and Associates who pledged to help the ministry in any other way possible like gathering old-timers to me back and support the lord’s work. \n \nWe appreciate all the associates who turned up and supported the Ministry\, thank you. And those that could not make it but supported through prayer and giving we appreciate you.
URL:https://focusuganda.org/event/new-chapter-in-focus-fundraising-dinners/
LOCATION:FOCUS Camping Site Gerenge\, Entebbe\, 256\, Uganda
CATEGORIES:Event
ATTACH;FMTTYPE=image/jpeg:https://focusuganda.org/wp-content/uploads/2020/02/events-min.jpg
ORGANIZER;CN="Fellowship of Christian Unions - Uganda":MAILTO:gs@focusuganda.org
END:VEVENT
BEGIN:VEVENT
DTSTART;TZID=Africa/Kampala:20200413T235900
DTEND;TZID=Africa/Kampala:20200413T235900
DTSTAMP:20260423T020209
CREATED:20200210T095245Z
LAST-MODIFIED:20200323T135040Z
UID:618-1586822340-1586822340@focusuganda.org
SUMMARY:FOCUS Mission Camp is Back and BIGGER
DESCRIPTION:The Annual FOCUS Mission Camp is back this year from 10th to 13th April 2020. Last year we hosted 480 students at Gerenge Camping and Retreat Centre and this year we expect our numbers to grow to over 600 students. We would appreciate any assistance rendered to make it possible for a CU student to attend. \n \nMany students’ lives have been touched and transformed over the years during FOCUS Mission Camps. Let your giving bring transformation to this nation’s next generation of leaders.
URL:https://focusuganda.org/event/focus-mission-camp-is-back-and-bigger/
LOCATION:FOCUS Camping Site Gerenge\, Entebbe\, 256\, Uganda
CATEGORIES:Event
ATTACH;FMTTYPE=image/jpeg:https://focusuganda.org/wp-content/uploads/2016/03/easter-mission-camp.jpg
ORGANIZER;CN="Fellowship of Christian Unions - Uganda":MAILTO:gs@focusuganda.org
END:VEVENT
BEGIN:VEVENT
DTSTART;TZID=Africa/Kampala:20200410T000000
DTEND;TZID=Africa/Kampala:20200413T235900
DTSTAMP:20260423T020209
CREATED:20200210T171522Z
LAST-MODIFIED:20200213T113608Z
UID:2527-1586476800-1586822340@focusuganda.org
SUMMARY:Associates Conference for Lira\, Arua and Kampala
DESCRIPTION:Brethren\, what new thing are you seeing on FOCUS\, let people work for GOD. Can we see the glory of God in this region? FOCUS has been in place since 1983 (for the sake of Mbarara) but we do not have a shop to operate in\, do we have anything that can be used to generate income and preach the gospel to people far away from here? \n \n  \nThe one\, who made the sea to dry for his children to cross for his glory\, is still ready to see his glory in this town. I desire and pray that God helps us to have a vision of having a new FOCUS.  We pray for the leadership of FOCUS that we may be able to see far and see a different FOCUS. FOCUS is a sleeping lion. Let us wake up and be a new thing for the lord. He is ready to give us his hand for his glory.
URL:https://focusuganda.org/event/associates-conference-for-lira-arua-and-kampala/
LOCATION:Lira\, Arua and Kampala\, Lira\, Arua and Kampala\, 256\, Uganda
CATEGORIES:Event
ATTACH;FMTTYPE=image/jpeg:https://focusuganda.org/wp-content/uploads/2020/02/events-min.jpeg
ORGANIZER;CN="Fellowship of Christian Unions - Uganda":MAILTO:gs@focusuganda.org
END:VEVENT
END:VCALENDAR