BEGIN:VCALENDAR
VERSION:2.0
PRODID:-//Focus Uganda - ECPv6.15.20//NONSGML v1.0//EN
CALSCALE:GREGORIAN
METHOD:PUBLISH
X-WR-CALNAME:Focus Uganda
X-ORIGINAL-URL:https://focusuganda.org
X-WR-CALDESC:Events for Focus Uganda
REFRESH-INTERVAL;VALUE=DURATION:PT1H
X-Robots-Tag:noindex
X-PUBLISHED-TTL:PT1H
BEGIN:VTIMEZONE
TZID:Africa/Kampala
BEGIN:STANDARD
TZOFFSETFROM:+0300
TZOFFSETTO:+0300
TZNAME:EAT
DTSTART:20240101T000000
END:STANDARD
END:VTIMEZONE
BEGIN:VEVENT
DTSTART;TZID=Africa/Kampala:20250518T080000
DTEND;TZID=Africa/Kampala:20250528T170000
DTSTAMP:20260424T220725
CREATED:20250517T133700Z
LAST-MODIFIED:20250517T133701Z
UID:4305-1747555200-1748451600@focusuganda.org
SUMMARY:FOCUS Regional Visits
DESCRIPTION:General Secretary leads the visits to the regional FOCUS Regions
URL:https://focusuganda.org/event/focus-regional-visits/
END:VEVENT
END:VCALENDAR