BEGIN:VCALENDAR
VERSION:2.0
PRODID:-//Focus Uganda - ECPv6.15.20//NONSGML v1.0//EN
CALSCALE:GREGORIAN
METHOD:PUBLISH
X-ORIGINAL-URL:https://focusuganda.org
X-WR-CALDESC:Events for Focus Uganda
REFRESH-INTERVAL;VALUE=DURATION:PT1H
X-Robots-Tag:noindex
X-PUBLISHED-TTL:PT1H
BEGIN:VTIMEZONE
TZID:Africa/Kampala
BEGIN:STANDARD
TZOFFSETFROM:+0300
TZOFFSETTO:+0300
TZNAME:EAT
DTSTART:20230101T000000
END:STANDARD
END:VTIMEZONE
BEGIN:VEVENT
DTSTART;TZID=Africa/Kampala:20240223T080000
DTEND;TZID=Africa/Kampala:20240223T170000
DTSTAMP:20260425T145643
CREATED:20240122T080455Z
LAST-MODIFIED:20240122T080457Z
UID:3836-1708675200-1708707600@focusuganda.org
SUMMARY:FATT/STEM staff Reunion(former & current)
DESCRIPTION:
URL:https://focusuganda.org/event/fatt-stem-staff-reunionformer-current/
END:VEVENT
END:VCALENDAR